BEGIN:VCALENDAR
VERSION:2.0
PRODID:-//LATA - ECPv5.16.4//NONSGML v1.0//EN
CALSCALE:GREGORIAN
METHOD:PUBLISH
X-WR-CALNAME:LATA
X-ORIGINAL-URL:https://www.lata.travel
X-WR-CALDESC:Events for LATA
BEGIN:VTIMEZONE
TZID:Europe/London
BEGIN:DAYLIGHT
TZOFFSETFROM:+0000
TZOFFSETTO:+0100
TZNAME:BST
DTSTART:20250330T010000
END:DAYLIGHT
BEGIN:STANDARD
TZOFFSETFROM:+0100
TZOFFSETTO:+0000
TZNAME:GMT
DTSTART:20251026T010000
END:STANDARD
END:VTIMEZONE
BEGIN:VEVENT
DTSTART;TZID=Europe/London:20250910T160000
DTEND;TZID=Europe/London:20250910T170000
DTSTAMP:20260423T113753
CREATED:20250901T145109Z
LAST-MODIFIED:20250901T145109Z
UID:50747-1757520000-1757523600@www.lata.travel
SUMMARY:LATA Sustainability Webinar: Rethinking Waste in Tourism
DESCRIPTION:As part of our new webinar series\, we’ll be showcasing winners of the LATA Responsible Tourism Awards and sharing approaches that are both inspiring and replicable. In this first session\, Megan will host three pioneering tourism businesses to show how waste can be turned from a problem into a solution. Working in fragile ecosystems with little waste infrastructure\, they are creating circular approaches that cut environmental impact\, boost local economies\, and benefit communities\, visitors\, and nature.
URL:https://www.lata.travel/event/lata-sustainability-webinar-rethinking-waste-in-tourism/
ORGANIZER;CN="LATA":MAILTO:info@lata.travel
END:VEVENT
END:VCALENDAR