BEGIN:VCALENDAR
VERSION:2.0
PRODID:-//LATA - ECPv5.16.4//NONSGML v1.0//EN
CALSCALE:GREGORIAN
METHOD:PUBLISH
X-WR-CALNAME:LATA
X-ORIGINAL-URL:https://www.lata.travel
X-WR-CALDESC:Events for LATA
BEGIN:VTIMEZONE
TZID:Europe/London
BEGIN:DAYLIGHT
TZOFFSETFROM:+0000
TZOFFSETTO:+0100
TZNAME:BST
DTSTART:20260329T010000
END:DAYLIGHT
BEGIN:STANDARD
TZOFFSETFROM:+0100
TZOFFSETTO:+0000
TZNAME:GMT
DTSTART:20261025T010000
END:STANDARD
END:VTIMEZONE
BEGIN:VEVENT
DTSTART;TZID=Europe/London:20260607T150000
DTEND;TZID=Europe/London:20260610T163000
DTSTAMP:20260426T025906
CREATED:20250618T111620Z
LAST-MODIFIED:20250618T154952Z
UID:49176-1780844400-1781109000@www.lata.travel
SUMMARY:LATA Expo 2026
DESCRIPTION:First launched in 2014\, LATA Expo\, which started life as Experience Latin America\, has seen 12 years of being the key event for the Latin American tourism industry\, building relationships and business partnerships. \nIn 2026\, we will be moving the event to an exciting new venue – the De Vere Cotswold Water Park\, in the heart of the Cotswolds
URL:https://www.lata.travel/event/lata-expo-2026/
LOCATION:De Vere Cotswold Water Park\, 6 Spine Rd E\, Cirencester\, GL7 5FP
CATEGORIES:LATA Expo
END:VEVENT
END:VCALENDAR